


BEGIN:VCALENDAR
VERSION:2.0
PRODID:-//SAPORI DI LAGO &#8211; 20th EDITION: presentation of the festival
 //NONSGML Events //EN
CALSCALE:GREGORIAN
X-WR-CALNAME:SAPORI DI LAGO &#8211; 20th EDITION: presentation of the festival
BEGIN:VEVENT
CREATED:20250801T101426Z
UID:10034
DTEND;VALUE=DATE:20250808T180000Z
DTSTART;VALUE=DATE:20250808T163000Z
DTSTAMP:19700101T000001Z
LOCATION:
DESCRIPTION:Friday the 8th of August 2025, 5:30 PM
SUMMARY:SAPORI DI LAGO &#8211\; 20th EDITION: presentation of the festival
ORGANIZER:Baveno Turismo
URL;VALUE=URI:https://bavenoturismo.it/en/eventi/sapori-di-lago-xx-edizione-presentazione-della-rassegna/
TRANSP:OPAQUE
BEGIN:VALARM
ACTION:DISPLAY
TRIGGER;VALUE=DATE-TIME:20250808T190000Z
DESCRIPTION:Reminder for SAPORI DI LAGO &#8211\; 20th EDITION: presentation of the festival
END:VALARM
END:VEVENT
END:VCALENDAR
