


BEGIN:VCALENDAR
VERSION:2.0
PRODID:-//CORSI UNI3 2025-2026: LABORATORIO DI RECITAZIONE TEATRALE E CINEMATOGRAFICA &#8211; PARTE 1
 //NONSGML Events //EN
CALSCALE:GREGORIAN
X-WR-CALNAME:CORSI UNI3 2025-2026: LABORATORIO DI RECITAZIONE TEATRALE E CINEMATOGRAFICA &#8211; PARTE 1
BEGIN:VEVENT
CREATED:20250828T082325Z
UID:10086
DTEND;VALUE=DATE:20251223T210000Z
DTSTART;VALUE=DATE:20251021T190000Z
DTSTAMP:19700101T000001Z
LOCATION:
DESCRIPTION:<p class="qtranxs-available-languages-message qtranxs-available-langua
SUMMARY:CORSI UNI3 2025-2026: LABORATORIO DI RECITAZIONE TEATRALE E CINEMATOGRAFICA &#8211\; PARTE 1
ORGANIZER:Baveno Turismo
URL;VALUE=URI:https://bavenoturismo.it/en/eventi/corsi-uni3-2025-2026-laboratorio-di-recitazione-teatrale-e-cinematografica-parte-1/
TRANSP:OPAQUE
BEGIN:VALARM
ACTION:DISPLAY
TRIGGER;VALUE=DATE-TIME:20251223T220000Z
DESCRIPTION:Reminder for CORSI UNI3 2025-2026: LABORATORIO DI RECITAZIONE TEATRALE E CINEMATOGRAFICA &#8211\; PARTE 1
END:VALARM
END:VEVENT
END:VCALENDAR
