


BEGIN:VCALENDAR
VERSION:2.0
PRODID:-//PRESENTAZIONE DEL ROMANZO &#8220;VIRGINIA APGAR, L&#8217;INTUIZIONE GENIALE&#8221;
 //NONSGML Events //EN
CALSCALE:GREGORIAN
X-WR-CALNAME:PRESENTAZIONE DEL ROMANZO &#8220;VIRGINIA APGAR, L&#8217;INTUIZIONE GENIALE&#8221;
BEGIN:VEVENT
CREATED:20250909T103913Z
UID:10152
DTEND;VALUE=DATE:20251108T110000Z
DTSTART;VALUE=DATE:20251108T100000Z
DTSTAMP:19700101T000001Z
LOCATION:
DESCRIPTION:<p class="qtranxs-available-languages-message qtranxs-available-langua
SUMMARY:PRESENTAZIONE DEL ROMANZO &#8220\;VIRGINIA APGAR\, L&#8217\;INTUIZIONE GENIALE&#8221\;
ORGANIZER:Baveno Turismo
URL;VALUE=URI:https://bavenoturismo.it/en/eventi/presentazione-del-romanzo-virginia-apgar-lintuizione-geniale/
TRANSP:OPAQUE
BEGIN:VALARM
ACTION:DISPLAY
TRIGGER;VALUE=DATE-TIME:20251108T120000Z
DESCRIPTION:Reminder for PRESENTAZIONE DEL ROMANZO &#8220\;VIRGINIA APGAR\, L&#8217\;INTUIZIONE GENIALE&#8221\;
END:VALARM
END:VEVENT
END:VCALENDAR
