


BEGIN:VCALENDAR
VERSION:2.0
PRODID:-//SUMIE: CORSO DI PITTURA GIAPPONESE A INCHIOSTRO
 //NONSGML Events //EN
CALSCALE:GREGORIAN
X-WR-CALNAME:SUMIE: CORSO DI PITTURA GIAPPONESE A INCHIOSTRO
BEGIN:VEVENT
CREATED:20250911T142244Z
UID:10161
DTEND;VALUE=DATE:20251213T160000Z
DTSTART;VALUE=DATE:20251115T140000Z
DTSTAMP:19700101T000001Z
LOCATION:
DESCRIPTION:<p class="qtranxs-available-languages-message qtranxs-available-langua
SUMMARY:SUMIE: CORSO DI PITTURA GIAPPONESE A INCHIOSTRO
ORGANIZER:Baveno Turismo
URL;VALUE=URI:https://bavenoturismo.it/en/eventi/sumie-corso-di-pittura-giapponese-a-inchiostro-5/
TRANSP:OPAQUE
BEGIN:VALARM
ACTION:DISPLAY
TRIGGER;VALUE=DATE-TIME:20251213T170000Z
DESCRIPTION:Reminder for SUMIE: CORSO DI PITTURA GIAPPONESE A INCHIOSTRO
END:VALARM
END:VEVENT
END:VCALENDAR
