


BEGIN:VCALENDAR
VERSION:2.0
PRODID:-//LA FIAMMA OLIMPICA ARRIVA A BAVENO
 //NONSGML Events //EN
CALSCALE:GREGORIAN
X-WR-CALNAME:LA FIAMMA OLIMPICA ARRIVA A BAVENO
BEGIN:VEVENT
CREATED:20251231T120425Z
UID:10367
DTEND;VALUE=DATE:20260114T143000Z
DTSTART;VALUE=DATE:20260114T134500Z
DTSTAMP:19700101T000001Z
LOCATION:
DESCRIPTION:<p class="qtranxs-available-languages-message qtranxs-available-langua
SUMMARY:LA FIAMMA OLIMPICA ARRIVA A BAVENO
ORGANIZER:Baveno Turismo
URL;VALUE=URI:https://bavenoturismo.it/en/eventi/la-fiamma-olimpica-arriva-a-baveno/
TRANSP:OPAQUE
BEGIN:VALARM
ACTION:DISPLAY
TRIGGER;VALUE=DATE-TIME:20260114T153000Z
DESCRIPTION:Reminder for LA FIAMMA OLIMPICA ARRIVA A BAVENO
END:VALARM
END:VEVENT
END:VCALENDAR
