


BEGIN:VCALENDAR
VERSION:2.0
PRODID:-//VINILPATIA &#8211; international vinyl fair
 //NONSGML Events //EN
CALSCALE:GREGORIAN
X-WR-CALNAME:VINILPATIA &#8211; international vinyl fair
BEGIN:VEVENT
CREATED:20260424T103346Z
UID:10566
DTEND;VALUE=DATE:20260705T220000Z
DTSTART;VALUE=DATE:20260705T090000Z
DTSTAMP:19700101T000001Z
LOCATION:
DESCRIPTION:Sunday the 5th July, from 10am to 11pm
SUMMARY:VINILPATIA &#8211\; international vinyl fair
ORGANIZER:Baveno Turismo
URL;VALUE=URI:https://bavenoturismo.it/en/eventi/vinilpatia-fiera-del-vinile/
TRANSP:OPAQUE
BEGIN:VALARM
ACTION:DISPLAY
TRIGGER;VALUE=DATE-TIME:20260705T230000Z
DESCRIPTION:Reminder for VINILPATIA &#8211\; international vinyl fair
END:VALARM
END:VEVENT
END:VCALENDAR
