


BEGIN:VCALENDAR
VERSION:2.0
PRODID:-//FESTA PATRONALE DI SAN CARLO
 //NONSGML Events //EN
CALSCALE:GREGORIAN
X-WR-CALNAME:FESTA PATRONALE DI SAN CARLO
BEGIN:VEVENT
CREATED:20210920T091818Z
UID:6148
DTEND;VALUE=DATE:20211107T120000Z
DTSTART;VALUE=DATE:20211107T103000Z
DTSTAMP:19700101T000001Z
LOCATION:
DESCRIPTION:Sunday 7th November 2021, 11:30 am &nbsp;
SUMMARY:FESTA PATRONALE DI SAN CARLO
ORGANIZER:Baveno Turismo
URL;VALUE=URI:https://bavenoturismo.it/en/eventi/festa-patronale-di-san-carlo-4/
TRANSP:OPAQUE
BEGIN:VALARM
ACTION:DISPLAY
TRIGGER;VALUE=DATE-TIME:20211107T130000Z
DESCRIPTION:Reminder for FESTA PATRONALE DI SAN CARLO
END:VALARM
END:VEVENT
END:VCALENDAR
