


BEGIN:VCALENDAR
VERSION:2.0
PRODID:-//RASSEGNA LA PIETRA RACCONTA: SUONI TROPICALI
 //NONSGML Events //EN
CALSCALE:GREGORIAN
X-WR-CALNAME:RASSEGNA LA PIETRA RACCONTA: SUONI TROPICALI
BEGIN:VEVENT
CREATED:20210209T142533Z
UID:6292
DTEND;VALUE=DATE:20210827T193000Z
DTSTART;VALUE=DATE:20210827T173000Z
DTSTAMP:19700101T000001Z
LOCATION:
DESCRIPTION:Friday 27th August 2021, 6:30 pm &nbsp;
SUMMARY:RASSEGNA LA PIETRA RACCONTA: SUONI TROPICALI
ORGANIZER:Baveno Turismo
URL;VALUE=URI:https://bavenoturismo.it/en/eventi/la-pietra-racconta-2021-suoni-tropicali/
TRANSP:OPAQUE
BEGIN:VALARM
ACTION:DISPLAY
TRIGGER;VALUE=DATE-TIME:20210827T203000Z
DESCRIPTION:Reminder for RASSEGNA LA PIETRA RACCONTA: SUONI TROPICALI
END:VALARM
END:VEVENT
END:VCALENDAR
