


BEGIN:VCALENDAR
VERSION:2.0
PRODID:-//BANCARELLE SOTTO LE STELLE
 //NONSGML Events //EN
CALSCALE:GREGORIAN
X-WR-CALNAME:BANCARELLE SOTTO LE STELLE
BEGIN:VEVENT
CREATED:20210303T085954Z
UID:6319
DTEND;VALUE=DATE:20210602T220000Z
DTSTART;VALUE=DATE:20210602T080000Z
DTSTAMP:19700101T000001Z
LOCATION:
DESCRIPTION:Wednesday 2nd June, 9am-11pm &nbsp;
SUMMARY:BANCARELLE SOTTO LE STELLE
ORGANIZER:Baveno Turismo
URL;VALUE=URI:https://bavenoturismo.it/en/eventi/bancarelle-sotto-le-stelle/
TRANSP:OPAQUE
BEGIN:VALARM
ACTION:DISPLAY
TRIGGER;VALUE=DATE-TIME:20210602T230000Z
DESCRIPTION:Reminder for BANCARELLE SOTTO LE STELLE
END:VALARM
END:VEVENT
END:VCALENDAR
