


BEGIN:VCALENDAR
VERSION:2.0
PRODID:-//GIRO AD ANELLO ALLE CAVE DI BAVENO
 //NONSGML Events //EN
CALSCALE:GREGORIAN
X-WR-CALNAME:GIRO AD ANELLO ALLE CAVE DI BAVENO
BEGIN:VEVENT
CREATED:20210429T105555Z
UID:6356
DTEND;VALUE=DATE:20210508T230000Z
DTSTART;VALUE=DATE:20210508T230000Z
DTSTAMP:19700101T000001Z
LOCATION:
DESCRIPTION:Sunday 9th May 2021 &nbsp;
SUMMARY:GIRO AD ANELLO ALLE CAVE DI BAVENO
ORGANIZER:Baveno Turismo
URL;VALUE=URI:https://bavenoturismo.it/en/eventi/giro-ad-anello-alle-cave-di-baveno/
TRANSP:OPAQUE
BEGIN:VALARM
ACTION:DISPLAY
TRIGGER;VALUE=DATE-TIME:20210509T000000Z
DESCRIPTION:Reminder for GIRO AD ANELLO ALLE CAVE DI BAVENO
END:VALARM
END:VEVENT
END:VCALENDAR
