


BEGIN:VCALENDAR
VERSION:2.0
PRODID:-//EXCURSION TO MACUGNAGA
 //NONSGML Events //EN
CALSCALE:GREGORIAN
X-WR-CALNAME:EXCURSION TO MACUGNAGA
BEGIN:VEVENT
CREATED:20210705T090751Z
UID:6601
DTEND;VALUE=DATE:20210710T230000Z
DTSTART;VALUE=DATE:20210710T230000Z
DTSTAMP:19700101T000001Z
LOCATION:
DESCRIPTION:Sunday 11th July 2021, at 9:30 a.m. &nbsp;
SUMMARY:EXCURSION TO MACUGNAGA
ORGANIZER:Baveno Turismo
URL;VALUE=URI:https://bavenoturismo.it/en/eventi/escursione-a-macugnaga/
TRANSP:OPAQUE
BEGIN:VALARM
ACTION:DISPLAY
TRIGGER;VALUE=DATE-TIME:20210711T000000Z
DESCRIPTION:Reminder for EXCURSION TO MACUGNAGA
END:VALARM
END:VEVENT
END:VCALENDAR
