


BEGIN:VCALENDAR
VERSION:2.0
PRODID:-//RASSEGNA LA PIETRA RACCONTA: CONFERENZA &#8220;ANTICHI AFFRESCHI&#8221;
 //NONSGML Events //EN
CALSCALE:GREGORIAN
X-WR-CALNAME:RASSEGNA LA PIETRA RACCONTA: CONFERENZA &#8220;ANTICHI AFFRESCHI&#8221;
BEGIN:VEVENT
CREATED:20210823T111315Z
UID:6697
DTEND;VALUE=DATE:20211008T213000Z
DTSTART;VALUE=DATE:20211008T200000Z
DTSTAMP:19700101T000001Z
LOCATION:
DESCRIPTION:<p class="qtranxs-available-languages-message qtranxs-available-langua
SUMMARY:RASSEGNA LA PIETRA RACCONTA: CONFERENZA &#8220\;ANTICHI AFFRESCHI&#8221\;
ORGANIZER:Baveno Turismo
URL;VALUE=URI:https://bavenoturismo.it/en/eventi/rassegna-la-pietra-racconta-conferenza-antichi-affreschi/
TRANSP:OPAQUE
BEGIN:VALARM
ACTION:DISPLAY
TRIGGER;VALUE=DATE-TIME:20211008T223000Z
DESCRIPTION:Reminder for RASSEGNA LA PIETRA RACCONTA: CONFERENZA &#8220\;ANTICHI AFFRESCHI&#8221\;
END:VALARM
END:VEVENT
END:VCALENDAR
