


BEGIN:VCALENDAR
VERSION:2.0
PRODID:-//20 ANNI ASSOCIAZIONE ITALIANA PUNTO CROCE &#8211; DELEGAZIONE DI BAVENO
 //NONSGML Events //EN
CALSCALE:GREGORIAN
X-WR-CALNAME:20 ANNI ASSOCIAZIONE ITALIANA PUNTO CROCE &#8211; DELEGAZIONE DI BAVENO
BEGIN:VEVENT
CREATED:20210923T135209Z
UID:6750
DTEND;VALUE=DATE:20211002T160000Z
DTSTART;VALUE=DATE:20211002T130000Z
DTSTAMP:19700101T000001Z
LOCATION:
DESCRIPTION:<p class="qtranxs-available-languages-message qtranxs-available-langua
SUMMARY:20 ANNI ASSOCIAZIONE ITALIANA PUNTO CROCE &#8211\; DELEGAZIONE DI BAVENO
ORGANIZER:Baveno Turismo
URL;VALUE=URI:https://bavenoturismo.it/en/eventi/20-anni-associazione-italiana-punto-croce-delegazione-di-baveno/
TRANSP:OPAQUE
BEGIN:VALARM
ACTION:DISPLAY
TRIGGER;VALUE=DATE-TIME:20211002T170000Z
DESCRIPTION:Reminder for 20 ANNI ASSOCIAZIONE ITALIANA PUNTO CROCE &#8211\; DELEGAZIONE DI BAVENO
END:VALARM
END:VEVENT
END:VCALENDAR
