


BEGIN:VCALENDAR
VERSION:2.0
PRODID:-//GIRO AD ANELLO DA CANNERO RIVIERA
 //NONSGML Events //EN
CALSCALE:GREGORIAN
X-WR-CALNAME:GIRO AD ANELLO DA CANNERO RIVIERA
BEGIN:VEVENT
CREATED:20211104T091832Z
UID:6869
DTEND;VALUE=DATE:20211106T230000Z
DTSTART;VALUE=DATE:20211106T230000Z
DTSTAMP:19700101T000001Z
LOCATION:
DESCRIPTION:<p class="qtranxs-available-languages-message qtranxs-available-langua
SUMMARY:GIRO AD ANELLO DA CANNERO RIVIERA
ORGANIZER:Baveno Turismo
URL;VALUE=URI:https://bavenoturismo.it/en/eventi/giro-ad-anello-da-cannero/
TRANSP:OPAQUE
BEGIN:VALARM
ACTION:DISPLAY
TRIGGER;VALUE=DATE-TIME:20211107T000000Z
DESCRIPTION:Reminder for GIRO AD ANELLO DA CANNERO RIVIERA
END:VALARM
END:VEVENT
END:VCALENDAR
