


BEGIN:VCALENDAR
VERSION:2.0
PRODID:-//ARRIVA LA BEFANA
 //NONSGML Events //EN
CALSCALE:GREGORIAN
X-WR-CALNAME:ARRIVA LA BEFANA
BEGIN:VEVENT
CREATED:20211109T115233Z
UID:6934
DTEND;VALUE=DATE:20230105T213000Z
DTSTART;VALUE=DATE:20230105T200000Z
DTSTAMP:19700101T000001Z
LOCATION:
DESCRIPTION:<p class="qtranxs-available-languages-message qtranxs-available-langua
SUMMARY:ARRIVA LA BEFANA
ORGANIZER:Baveno Turismo
URL;VALUE=URI:https://bavenoturismo.it/en/eventi/arriva-la-befana-5/
TRANSP:OPAQUE
BEGIN:VALARM
ACTION:DISPLAY
TRIGGER;VALUE=DATE-TIME:20230105T223000Z
DESCRIPTION:Reminder for ARRIVA LA BEFANA
END:VALARM
END:VEVENT
END:VCALENDAR
