


BEGIN:VCALENDAR
VERSION:2.0
PRODID:-//FESTIVAL LA PIETRA RACCONTA: A ROMANTIC JOURNEY
 //NONSGML Events //EN
CALSCALE:GREGORIAN
X-WR-CALNAME:FESTIVAL LA PIETRA RACCONTA: A ROMANTIC JOURNEY
BEGIN:VEVENT
CREATED:20220406T140922Z
UID:7171
DTEND;VALUE=DATE:20220611T183000Z
DTSTART;VALUE=DATE:20220611T170000Z
DTSTAMP:19700101T000001Z
LOCATION:
DESCRIPTION:Saturday 11th of June 2022, 6pm &nbsp;
SUMMARY:FESTIVAL LA PIETRA RACCONTA: A ROMANTIC JOURNEY
ORGANIZER:Baveno Turismo
URL;VALUE=URI:https://bavenoturismo.it/en/eventi/rassegna-la-pietra-racconta-un-viaggio-romantico/
TRANSP:OPAQUE
BEGIN:VALARM
ACTION:DISPLAY
TRIGGER;VALUE=DATE-TIME:20220611T193000Z
DESCRIPTION:Reminder for FESTIVAL LA PIETRA RACCONTA: A ROMANTIC JOURNEY
END:VALARM
END:VEVENT
END:VCALENDAR
