


BEGIN:VCALENDAR
VERSION:2.0
PRODID:-//MARKET FROM FORTE DEI MARMI
 //NONSGML Events //EN
CALSCALE:GREGORIAN
X-WR-CALNAME:MARKET FROM FORTE DEI MARMI
BEGIN:VEVENT
CREATED:20220422T141119Z
UID:7214
DTEND;VALUE=DATE:20220619T180000Z
DTSTART;VALUE=DATE:20220619T070000Z
DTSTAMP:19700101T000001Z
LOCATION:
DESCRIPTION:Sunday 19th June 2022, 8 am-7 pm &nbsp;
SUMMARY:MARKET FROM FORTE DEI MARMI
ORGANIZER:Baveno Turismo
URL;VALUE=URI:https://bavenoturismo.it/en/eventi/il-mercatino-da-forte-dei-marmi-2/
TRANSP:OPAQUE
BEGIN:VALARM
ACTION:DISPLAY
TRIGGER;VALUE=DATE-TIME:20220619T190000Z
DESCRIPTION:Reminder for MARKET FROM FORTE DEI MARMI
END:VALARM
END:VEVENT
END:VCALENDAR
