


BEGIN:VCALENDAR
VERSION:2.0
PRODID:-//DELITTI DI LAGO
 //NONSGML Events //EN
CALSCALE:GREGORIAN
X-WR-CALNAME:DELITTI DI LAGO
BEGIN:VEVENT
CREATED:20220429T141319Z
UID:7321
DTEND;VALUE=DATE:20220507T173000Z
DTSTART;VALUE=DATE:20220507T153000Z
DTSTAMP:19700101T000001Z
LOCATION:
DESCRIPTION:<p class="qtranxs-available-languages-message qtranxs-available-langua
SUMMARY:DELITTI DI LAGO
ORGANIZER:Baveno Turismo
URL;VALUE=URI:https://bavenoturismo.it/en/eventi/delitti-di-lago/
TRANSP:OPAQUE
BEGIN:VALARM
ACTION:DISPLAY
TRIGGER;VALUE=DATE-TIME:20220507T183000Z
DESCRIPTION:Reminder for DELITTI DI LAGO
END:VALARM
END:VEVENT
END:VCALENDAR
