


BEGIN:VCALENDAR
VERSION:2.0
PRODID:-//BAVENO BEFORE EXHIBITION: MOMENTS OF LEISURE IN BAVENO IN THE TWENTIETH CENTURY
 //NONSGML Events //EN
CALSCALE:GREGORIAN
X-WR-CALNAME:BAVENO BEFORE EXHIBITION: MOMENTS OF LEISURE IN BAVENO IN THE TWENTIETH CENTURY
BEGIN:VEVENT
CREATED:20220720T144028Z
UID:7544
DTEND;VALUE=DATE:20221030T230000Z
DTSTART;VALUE=DATE:20220729T170000Z
DTSTAMP:19700101T000001Z
LOCATION:
DESCRIPTION:From Friday 29th of July to Monday 31st of October 2022 &nbsp;
SUMMARY:BAVENO BEFORE EXHIBITION: MOMENTS OF LEISURE IN BAVENO IN THE TWENTIETH CENTURY
ORGANIZER:Baveno Turismo
URL;VALUE=URI:https://bavenoturismo.it/en/eventi/esposizione-baveno-before/
TRANSP:OPAQUE
BEGIN:VALARM
ACTION:DISPLAY
TRIGGER;VALUE=DATE-TIME:20221031T000000Z
DESCRIPTION:Reminder for BAVENO BEFORE EXHIBITION: MOMENTS OF LEISURE IN BAVENO IN THE TWENTIETH CENTURY
END:VALARM
END:VEVENT
END:VCALENDAR
