


BEGIN:VCALENDAR
VERSION:2.0
PRODID:-//CORSI UNI3 2022-2023: LA CASA E IL DESIGN
 //NONSGML Events //EN
CALSCALE:GREGORIAN
X-WR-CALNAME:CORSI UNI3 2022-2023: LA CASA E IL DESIGN
BEGIN:VEVENT
CREATED:20221019T094002Z
UID:7796
DTEND;VALUE=DATE:20230418T183000Z
DTSTART;VALUE=DATE:20230228T170000Z
DTSTAMP:19700101T000001Z
LOCATION:
DESCRIPTION:<p class="qtranxs-available-languages-message qtranxs-available-langua
SUMMARY:CORSI UNI3 2022-2023: LA CASA E IL DESIGN
ORGANIZER:Baveno Turismo
URL;VALUE=URI:https://bavenoturismo.it/en/eventi/corsi-uni3-2022-2023-la-casa-e-il-design/
TRANSP:OPAQUE
BEGIN:VALARM
ACTION:DISPLAY
TRIGGER;VALUE=DATE-TIME:20230418T193000Z
DESCRIPTION:Reminder for CORSI UNI3 2022-2023: LA CASA E IL DESIGN
END:VALARM
END:VEVENT
END:VCALENDAR
