


BEGIN:VCALENDAR
VERSION:2.0
PRODID:-//LA MAGIA DEL CARNEVALE
 //NONSGML Events //EN
CALSCALE:GREGORIAN
X-WR-CALNAME:LA MAGIA DEL CARNEVALE
BEGIN:VEVENT
CREATED:20230202T111035Z
UID:7918
DTEND;VALUE=DATE:20230221T150000Z
DTSTART;VALUE=DATE:20230221T100000Z
DTSTAMP:19700101T000001Z
LOCATION:
DESCRIPTION:<p class="qtranxs-available-languages-message qtranxs-available-langua
SUMMARY:LA MAGIA DEL CARNEVALE
ORGANIZER:Baveno Turismo
URL;VALUE=URI:https://bavenoturismo.it/en/eventi/la-magia-del-carnevale/
TRANSP:OPAQUE
BEGIN:VALARM
ACTION:DISPLAY
TRIGGER;VALUE=DATE-TIME:20230221T160000Z
DESCRIPTION:Reminder for LA MAGIA DEL CARNEVALE
END:VALARM
END:VEVENT
END:VCALENDAR
