


BEGIN:VCALENDAR
VERSION:2.0
PRODID:-//FESTA DI SAN GIUSEPPE 2023
 //NONSGML Events //EN
CALSCALE:GREGORIAN
X-WR-CALNAME:FESTA DI SAN GIUSEPPE 2023
BEGIN:VEVENT
CREATED:20230308T093409Z
UID:7927
DTEND;VALUE=DATE:20230318T230000Z
DTSTART;VALUE=DATE:20230316T230000Z
DTSTAMP:19700101T000001Z
LOCATION:
DESCRIPTION:<p class="qtranxs-available-languages-message qtranxs-available-langua
SUMMARY:FESTA DI SAN GIUSEPPE 2023
ORGANIZER:Baveno Turismo
URL;VALUE=URI:https://bavenoturismo.it/en/eventi/festa-di-san-giuseppe-2023/
TRANSP:OPAQUE
BEGIN:VALARM
ACTION:DISPLAY
TRIGGER;VALUE=DATE-TIME:20230319T000000Z
DESCRIPTION:Reminder for FESTA DI SAN GIUSEPPE 2023
END:VALARM
END:VEVENT
END:VCALENDAR
