


BEGIN:VCALENDAR
VERSION:2.0
PRODID:-//FIORISSIMO
 //NONSGML Events //EN
CALSCALE:GREGORIAN
X-WR-CALNAME:FIORISSIMO
BEGIN:VEVENT
CREATED:20230330T095259Z
UID:7959
DTEND;VALUE=DATE:20230410T190000Z
DTSTART;VALUE=DATE:20230408T090000Z
DTSTAMP:19700101T000001Z
LOCATION:
DESCRIPTION:From Saturday 8th to Monday 10th of April 2023, from 10 am to 8pm &nbs
SUMMARY:FIORISSIMO
ORGANIZER:Baveno Turismo
URL;VALUE=URI:https://bavenoturismo.it/en/eventi/fiorissimo-2/
TRANSP:OPAQUE
BEGIN:VALARM
ACTION:DISPLAY
TRIGGER;VALUE=DATE-TIME:20230410T200000Z
DESCRIPTION:Reminder for FIORISSIMO
END:VALARM
END:VEVENT
END:VCALENDAR
