


BEGIN:VCALENDAR
VERSION:2.0
PRODID:-//PROGETTO UPSIDEDOWN 3: INCONTRO CON PADRE KIZITO SESANA
 //NONSGML Events //EN
CALSCALE:GREGORIAN
X-WR-CALNAME:PROGETTO UPSIDEDOWN 3: INCONTRO CON PADRE KIZITO SESANA
BEGIN:VEVENT
CREATED:20230419T091822Z
UID:8050
DTEND;VALUE=DATE:20230515T213000Z
DTSTART;VALUE=DATE:20230515T194500Z
DTSTAMP:19700101T000001Z
LOCATION:
DESCRIPTION:<p class="qtranxs-available-languages-message qtranxs-available-langua
SUMMARY:PROGETTO UPSIDEDOWN 3: INCONTRO CON PADRE KIZITO SESANA
ORGANIZER:Baveno Turismo
URL;VALUE=URI:https://bavenoturismo.it/en/eventi/progetto-upsidedown-incontro-con-padre-kizito-sesana/
TRANSP:OPAQUE
BEGIN:VALARM
ACTION:DISPLAY
TRIGGER;VALUE=DATE-TIME:20230515T223000Z
DESCRIPTION:Reminder for PROGETTO UPSIDEDOWN 3: INCONTRO CON PADRE KIZITO SESANA
END:VALARM
END:VEVENT
END:VCALENDAR
