


BEGIN:VCALENDAR
VERSION:2.0
PRODID:-//OPEN AIR EXHIBITION &#8220;BAVENO BEFORE&#8221;
 //NONSGML Events //EN
CALSCALE:GREGORIAN
X-WR-CALNAME:OPEN AIR EXHIBITION &#8220;BAVENO BEFORE&#8221;
BEGIN:VEVENT
CREATED:20230420T094754Z
UID:8068
DTEND;VALUE=DATE:20231006T230000Z
DTSTART;VALUE=DATE:20230701T230000Z
DTSTAMP:19700101T000001Z
LOCATION:
DESCRIPTION:From Sunday 2nd of July to Monday 30th of October 2023 &nbsp;
SUMMARY:OPEN AIR EXHIBITION &#8220\;BAVENO BEFORE&#8221\;
ORGANIZER:Baveno Turismo
URL;VALUE=URI:https://bavenoturismo.it/en/eventi/mostra-open-air-baveno-before/
TRANSP:OPAQUE
BEGIN:VALARM
ACTION:DISPLAY
TRIGGER;VALUE=DATE-TIME:20231007T000000Z
DESCRIPTION:Reminder for OPEN AIR EXHIBITION &#8220\;BAVENO BEFORE&#8221\;
END:VALARM
END:VEVENT
END:VCALENDAR
