


BEGIN:VCALENDAR
VERSION:2.0
PRODID:-//S&#8217;ILLUMINA IL NATALE
 //NONSGML Events //EN
CALSCALE:GREGORIAN
X-WR-CALNAME:S&#8217;ILLUMINA IL NATALE
BEGIN:VEVENT
CREATED:20231128T101220Z
UID:8722
DTEND;VALUE=DATE:20231207T230000Z
DTSTART;VALUE=DATE:20231208T170000Z
DTSTAMP:19700101T000001Z
LOCATION:
DESCRIPTION:<p class="qtranxs-available-languages-message qtranxs-available-langua
SUMMARY:S&#8217\;ILLUMINA IL NATALE
ORGANIZER:Baveno Turismo
URL;VALUE=URI:https://bavenoturismo.it/en/eventi/accensione-degli-alberi-di-natale-2/
TRANSP:OPAQUE
BEGIN:VALARM
ACTION:DISPLAY
TRIGGER;VALUE=DATE-TIME:20231208T000000Z
DESCRIPTION:Reminder for S&#8217\;ILLUMINA IL NATALE
END:VALARM
END:VEVENT
END:VCALENDAR
