


BEGIN:VCALENDAR
VERSION:2.0
PRODID:-//CHESTNUT FAIR TO ALPE NUOVO-CAI CABIN BAVENO
 //NONSGML Events //EN
CALSCALE:GREGORIAN
X-WR-CALNAME:CHESTNUT FAIR TO ALPE NUOVO-CAI CABIN BAVENO
BEGIN:VEVENT
CREATED:20240123T094106Z
UID:8791
DTEND;VALUE=DATE:20241006T160000Z
DTSTART;VALUE=DATE:20241006T113000Z
DTSTAMP:19700101T000001Z
LOCATION:
DESCRIPTION:Sunday the 6th of October 2024
SUMMARY:CHESTNUT FAIR TO ALPE NUOVO-CAI CABIN BAVENO
ORGANIZER:Baveno Turismo
URL;VALUE=URI:https://bavenoturismo.it/en/eventi/castagnata-allalpe-nuovo-baita-cai-baveno-2/
TRANSP:OPAQUE
BEGIN:VALARM
ACTION:DISPLAY
TRIGGER;VALUE=DATE-TIME:20241006T170000Z
DESCRIPTION:Reminder for CHESTNUT FAIR TO ALPE NUOVO-CAI CABIN BAVENO
END:VALARM
END:VEVENT
END:VCALENDAR
