


BEGIN:VCALENDAR
VERSION:2.0
PRODID:-//FESTA DEL BOCC
 //NONSGML Events //EN
CALSCALE:GREGORIAN
X-WR-CALNAME:FESTA DEL BOCC
BEGIN:VEVENT
CREATED:20240213T094838Z
UID:8831
DTEND;VALUE=DATE:20240728T230000Z
DTSTART;VALUE=DATE:20240717T230000Z
DTSTAMP:19700101T000001Z
LOCATION:
DESCRIPTION:<p class="qtranxs-available-languages-message qtranxs-available-langua
SUMMARY:FESTA DEL BOCC
ORGANIZER:Baveno Turismo
URL;VALUE=URI:https://bavenoturismo.it/en/eventi/festa-del-bocc-6/
TRANSP:OPAQUE
BEGIN:VALARM
ACTION:DISPLAY
TRIGGER;VALUE=DATE-TIME:20240729T000000Z
DESCRIPTION:Reminder for FESTA DEL BOCC
END:VALARM
END:VEVENT
END:VCALENDAR
