


BEGIN:VCALENDAR
VERSION:2.0
PRODID:-//VIBRAM TRAIL MOTTARONE
 //NONSGML Events //EN
CALSCALE:GREGORIAN
X-WR-CALNAME:VIBRAM TRAIL MOTTARONE
BEGIN:VEVENT
CREATED:20240213T105509Z
UID:8841
DTEND;VALUE=DATE:20240504T230000Z
DTSTART;VALUE=DATE:20240503T230000Z
DTSTAMP:19700101T000001Z
LOCATION:
DESCRIPTION:<p class="qtranxs-available-languages-message qtranxs-available-langua
SUMMARY:VIBRAM TRAIL MOTTARONE
ORGANIZER:Baveno Turismo
URL;VALUE=URI:https://bavenoturismo.it/en/eventi/vibram-trail-mottarone-3/
TRANSP:OPAQUE
BEGIN:VALARM
ACTION:DISPLAY
TRIGGER;VALUE=DATE-TIME:20240505T000000Z
DESCRIPTION:Reminder for VIBRAM TRAIL MOTTARONE
END:VALARM
END:VEVENT
END:VCALENDAR
