


BEGIN:VCALENDAR
VERSION:2.0
PRODID:-//CAI: SERATA INFORMATIVA VALANGHE E AUTOSOCCORSO
 //NONSGML Events //EN
CALSCALE:GREGORIAN
X-WR-CALNAME:CAI: SERATA INFORMATIVA VALANGHE E AUTOSOCCORSO
BEGIN:VEVENT
CREATED:20240220T084314Z
UID:8845
DTEND;VALUE=DATE:20240222T220000Z
DTSTART;VALUE=DATE:20240222T200000Z
DTSTAMP:19700101T000001Z
LOCATION:
DESCRIPTION:<p class="qtranxs-available-languages-message qtranxs-available-langua
SUMMARY:CAI: SERATA INFORMATIVA VALANGHE E AUTOSOCCORSO
ORGANIZER:Baveno Turismo
URL;VALUE=URI:https://bavenoturismo.it/en/eventi/cai-serata-informativa-valanghe-e-autosoccorso/
TRANSP:OPAQUE
BEGIN:VALARM
ACTION:DISPLAY
TRIGGER;VALUE=DATE-TIME:20240222T230000Z
DESCRIPTION:Reminder for CAI: SERATA INFORMATIVA VALANGHE E AUTOSOCCORSO
END:VALARM
END:VEVENT
END:VCALENDAR
