


BEGIN:VCALENDAR
VERSION:2.0
PRODID:-//PARCO IN FESTA
 //NONSGML Events //EN
CALSCALE:GREGORIAN
X-WR-CALNAME:PARCO IN FESTA
BEGIN:VEVENT
CREATED:20240328T143705Z
UID:8951
DTEND;VALUE=DATE:20240915T170000Z
DTSTART;VALUE=DATE:20240915T133000Z
DTSTAMP:19700101T000001Z
LOCATION:
DESCRIPTION:Sunday 15th September 2024, from 2:30pm
SUMMARY:PARCO IN FESTA
ORGANIZER:Baveno Turismo
URL;VALUE=URI:https://bavenoturismo.it/en/eventi/il-parco-in-festa-7/
TRANSP:OPAQUE
BEGIN:VALARM
ACTION:DISPLAY
TRIGGER;VALUE=DATE-TIME:20240915T180000Z
DESCRIPTION:Reminder for PARCO IN FESTA
END:VALARM
END:VEVENT
END:VCALENDAR
