


BEGIN:VCALENDAR
VERSION:2.0
PRODID:-//STONE ON STAGE: SUNRISE CONCERT ON THE LAKE
 //NONSGML Events //EN
CALSCALE:GREGORIAN
X-WR-CALNAME:STONE ON STAGE: SUNRISE CONCERT ON THE LAKE
BEGIN:VEVENT
CREATED:20240419T123928Z
UID:9033
DTEND;VALUE=DATE:20240831T070000Z
DTSTART;VALUE=DATE:20240831T053000Z
DTSTAMP:19700101T000001Z
LOCATION:
DESCRIPTION:Saturday 31st of August, 6.30am
SUMMARY:STONE ON STAGE: SUNRISE CONCERT ON THE LAKE
ORGANIZER:Baveno Turismo
URL;VALUE=URI:https://bavenoturismo.it/en/eventi/rassegna-la-pietra-racconta-concerto-allalba-sul-lago-2/
TRANSP:OPAQUE
BEGIN:VALARM
ACTION:DISPLAY
TRIGGER;VALUE=DATE-TIME:20240831T080000Z
DESCRIPTION:Reminder for STONE ON STAGE: SUNRISE CONCERT ON THE LAKE
END:VALARM
END:VEVENT
END:VCALENDAR
