


BEGIN:VCALENDAR
VERSION:2.0
PRODID:-//MEDITATION IN MUSIC &#8220;IN AMOR DI NOSTRA DONNA&#8221;
 //NONSGML Events //EN
CALSCALE:GREGORIAN
X-WR-CALNAME:MEDITATION IN MUSIC &#8220;IN AMOR DI NOSTRA DONNA&#8221;
BEGIN:VEVENT
CREATED:20240808T135922Z
UID:9244
DTEND;VALUE=DATE:20241019T213000Z
DTSTART;VALUE=DATE:20241019T200000Z
DTSTAMP:19700101T000001Z
LOCATION:
DESCRIPTION:Saturday the 19th of October 2024, at 9.00pm
SUMMARY:MEDITATION IN MUSIC &#8220\;IN AMOR DI NOSTRA DONNA&#8221\;
ORGANIZER:Baveno Turismo
URL;VALUE=URI:https://bavenoturismo.it/en/eventi/meditazione-in-musica-in-amor-di-nostra-donna/
TRANSP:OPAQUE
BEGIN:VALARM
ACTION:DISPLAY
TRIGGER;VALUE=DATE-TIME:20241019T223000Z
DESCRIPTION:Reminder for MEDITATION IN MUSIC &#8220\;IN AMOR DI NOSTRA DONNA&#8221\;
END:VALARM
END:VEVENT
END:VCALENDAR
