


BEGIN:VCALENDAR
VERSION:2.0
PRODID:-//FESTA DI SANTA LUCIA
 //NONSGML Events //EN
CALSCALE:GREGORIAN
X-WR-CALNAME:FESTA DI SANTA LUCIA
BEGIN:VEVENT
CREATED:20241003T152542Z
UID:9446
DTEND;VALUE=DATE:20241212T230000Z
DTSTART;VALUE=DATE:20241213T193000Z
DTSTAMP:19700101T000001Z
LOCATION:
DESCRIPTION:<p class="qtranxs-available-languages-message qtranxs-available-langua
SUMMARY:FESTA DI SANTA LUCIA
ORGANIZER:Baveno Turismo
URL;VALUE=URI:https://bavenoturismo.it/en/eventi/festa-di-santa-lucia-3/
TRANSP:OPAQUE
BEGIN:VALARM
ACTION:DISPLAY
TRIGGER;VALUE=DATE-TIME:20241213T000000Z
DESCRIPTION:Reminder for FESTA DI SANTA LUCIA
END:VALARM
END:VEVENT
END:VCALENDAR
