


BEGIN:VCALENDAR
VERSION:2.0
PRODID:-//TRAIL MOTTARONE XMAS EDITION
 //NONSGML Events //EN
CALSCALE:GREGORIAN
X-WR-CALNAME:TRAIL MOTTARONE XMAS EDITION
BEGIN:VEVENT
CREATED:20241030T084159Z
UID:9491
DTEND;VALUE=DATE:20241214T230000Z
DTSTART;VALUE=DATE:20241215T083000Z
DTSTAMP:19700101T000001Z
LOCATION:
DESCRIPTION:<p class="qtranxs-available-languages-message qtranxs-available-langua
SUMMARY:TRAIL MOTTARONE XMAS EDITION
ORGANIZER:Baveno Turismo
URL;VALUE=URI:https://bavenoturismo.it/en/eventi/trail-mottarone-xmas-edition-2/
TRANSP:OPAQUE
BEGIN:VALARM
ACTION:DISPLAY
TRIGGER;VALUE=DATE-TIME:20241215T000000Z
DESCRIPTION:Reminder for TRAIL MOTTARONE XMAS EDITION
END:VALARM
END:VEVENT
END:VCALENDAR
