


BEGIN:VCALENDAR
VERSION:2.0
PRODID:-//PRESENTAZIONE DEL VOLUME &#8220;BEATA VERGINE ALLE SCARPIE&#8221;
 //NONSGML Events //EN
CALSCALE:GREGORIAN
X-WR-CALNAME:PRESENTAZIONE DEL VOLUME &#8220;BEATA VERGINE ALLE SCARPIE&#8221;
BEGIN:VEVENT
CREATED:20241030T103549Z
UID:9495
DTEND;VALUE=DATE:20241109T160000Z
DTSTART;VALUE=DATE:20241109T140000Z
DTSTAMP:19700101T000001Z
LOCATION:
DESCRIPTION:<p class="qtranxs-available-languages-message qtranxs-available-langua
SUMMARY:PRESENTAZIONE DEL VOLUME &#8220\;BEATA VERGINE ALLE SCARPIE&#8221\;
ORGANIZER:Baveno Turismo
URL;VALUE=URI:https://bavenoturismo.it/en/eventi/presentazione-del-volume-beata-vergine-alle-scarpie/
TRANSP:OPAQUE
BEGIN:VALARM
ACTION:DISPLAY
TRIGGER;VALUE=DATE-TIME:20241109T170000Z
DESCRIPTION:Reminder for PRESENTAZIONE DEL VOLUME &#8220\;BEATA VERGINE ALLE SCARPIE&#8221\;
END:VALARM
END:VEVENT
END:VCALENDAR
