


BEGIN:VCALENDAR
VERSION:2.0
PRODID:-//ST. JOSEPH PATRONAL FEAST 2025
 //NONSGML Events //EN
CALSCALE:GREGORIAN
X-WR-CALNAME:ST. JOSEPH PATRONAL FEAST 2025
BEGIN:VEVENT
CREATED:20250128T102856Z
UID:9599
DTEND;VALUE=DATE:20250323T110000Z
DTSTART;VALUE=DATE:20250319T200000Z
DTSTAMP:19700101T000001Z
LOCATION:
DESCRIPTION:From Wednesday the 19th to Sunday the 23rd March 2025
SUMMARY:ST. JOSEPH PATRONAL FEAST 2025
ORGANIZER:Baveno Turismo
URL;VALUE=URI:https://bavenoturismo.it/en/eventi/festa-di-san-giuseppe-2025/
TRANSP:OPAQUE
BEGIN:VALARM
ACTION:DISPLAY
TRIGGER;VALUE=DATE-TIME:20250323T120000Z
DESCRIPTION:Reminder for ST. JOSEPH PATRONAL FEAST 2025
END:VALARM
END:VEVENT
END:VCALENDAR
