


BEGIN:VCALENDAR
VERSION:2.0
PRODID:-//FEAST AT THE SOCIAL HUT AT ALPE NUOVO
 //NONSGML Events //EN
CALSCALE:GREGORIAN
X-WR-CALNAME:FEAST AT THE SOCIAL HUT AT ALPE NUOVO
BEGIN:VEVENT
CREATED:20250225T122848Z
UID:9624
DTEND;VALUE=DATE:20250602T153000Z
DTSTART;VALUE=DATE:20250602T103000Z
DTSTAMP:19700101T000001Z
LOCATION:
DESCRIPTION:Monday the 2nd June 2025, from 11.30 am
SUMMARY:FEAST AT THE SOCIAL HUT AT ALPE NUOVO
ORGANIZER:Baveno Turismo
URL;VALUE=URI:https://bavenoturismo.it/en/eventi/festa-alla-capanna-sociale-allalpe-nuovo-3/
TRANSP:OPAQUE
BEGIN:VALARM
ACTION:DISPLAY
TRIGGER;VALUE=DATE-TIME:20250602T163000Z
DESCRIPTION:Reminder for FEAST AT THE SOCIAL HUT AT ALPE NUOVO
END:VALARM
END:VEVENT
END:VCALENDAR
