


BEGIN:VCALENDAR
VERSION:2.0
PRODID:-//BAVENO BRASS BAND&#8217;S CONCERT
 //NONSGML Events //EN
CALSCALE:GREGORIAN
X-WR-CALNAME:BAVENO BRASS BAND&#8217;S CONCERT
BEGIN:VEVENT
CREATED:20250227T115603Z
UID:9633
DTEND;VALUE=DATE:20250910T213000Z
DTSTART;VALUE=DATE:20250910T200000Z
DTSTAMP:19700101T000001Z
LOCATION:
DESCRIPTION:Wednesday the 10th of September 2025, 9pm
SUMMARY:BAVENO BRASS BAND&#8217\;S CONCERT
ORGANIZER:Baveno Turismo
URL;VALUE=URI:https://bavenoturismo.it/en/eventi/concerto-del-corpo-musicale-di-baveno-25/
TRANSP:OPAQUE
BEGIN:VALARM
ACTION:DISPLAY
TRIGGER;VALUE=DATE-TIME:20250910T223000Z
DESCRIPTION:Reminder for BAVENO BRASS BAND&#8217\;S CONCERT
END:VALARM
END:VEVENT
END:VCALENDAR
