


BEGIN:VCALENDAR
VERSION:2.0
PRODID:-//FESTIVAL FROM THE MOUNTAIN TO THE LAKE: &#8220;G.A.S. Clown show by Momi e Luca&#8221;
 //NONSGML Events //EN
CALSCALE:GREGORIAN
X-WR-CALNAME:FESTIVAL FROM THE MOUNTAIN TO THE LAKE: &#8220;G.A.S. Clown show by Momi e Luca&#8221;
BEGIN:VEVENT
CREATED:20250411T105310Z
UID:9734
DTEND;VALUE=DATE:20250713T213000Z
DTSTART;VALUE=DATE:20250713T200000Z
DTSTAMP:19700101T000001Z
LOCATION:
DESCRIPTION:Sunday the 13th July 2025, 9 pm
SUMMARY:FESTIVAL FROM THE MOUNTAIN TO THE LAKE: &#8220\;G.A.S. Clown show by Momi e Luca&#8221\;
ORGANIZER:Baveno Turismo
URL;VALUE=URI:https://bavenoturismo.it/en/eventi/festival-dalla-montagna-al-lago-g-a-s-spettacolo-clownesco-con-momi-e-luca/
TRANSP:OPAQUE
BEGIN:VALARM
ACTION:DISPLAY
TRIGGER;VALUE=DATE-TIME:20250713T223000Z
DESCRIPTION:Reminder for FESTIVAL FROM THE MOUNTAIN TO THE LAKE: &#8220\;G.A.S. Clown show by Momi e Luca&#8221\;
END:VALARM
END:VEVENT
END:VCALENDAR
