


BEGIN:VCALENDAR
VERSION:2.0
PRODID:-//WINE FEST
 //NONSGML Events //EN
CALSCALE:GREGORIAN
X-WR-CALNAME:WINE FEST
BEGIN:VEVENT
CREATED:20250411T112341Z
UID:9740
DTEND;VALUE=DATE:20250718T220000Z
DTSTART;VALUE=DATE:20250718T180000Z
DTSTAMP:19700101T000001Z
LOCATION:
DESCRIPTION:Friday the 18th July 2025, from 7 pm
SUMMARY:WINE FEST
ORGANIZER:Baveno Turismo
URL;VALUE=URI:https://bavenoturismo.it/en/eventi/festa-del-vino-3/
TRANSP:OPAQUE
BEGIN:VALARM
ACTION:DISPLAY
TRIGGER;VALUE=DATE-TIME:20250718T230000Z
DESCRIPTION:Reminder for WINE FEST
END:VALARM
END:VEVENT
END:VCALENDAR
