


BEGIN:VCALENDAR
VERSION:2.0
PRODID:-//RASSEGNA LA PIETRA RACCONTA: I SEGRETI DEL GRANITO ROSA
 //NONSGML Events //EN
CALSCALE:GREGORIAN
X-WR-CALNAME:RASSEGNA LA PIETRA RACCONTA: I SEGRETI DEL GRANITO ROSA
BEGIN:VEVENT
CREATED:20250715T140539Z
UID:9976
DTEND;VALUE=DATE:20251005T160000Z
DTSTART;VALUE=DATE:20251005T133000Z
DTSTAMP:19700101T000001Z
LOCATION:
DESCRIPTION:<p class="qtranxs-available-languages-message qtranxs-available-langua
SUMMARY:RASSEGNA LA PIETRA RACCONTA: I SEGRETI DEL GRANITO ROSA
ORGANIZER:Baveno Turismo
URL;VALUE=URI:https://bavenoturismo.it/en/eventi/rassegna-la-pietra-racconta-giornata-della-geodiversita/
TRANSP:OPAQUE
BEGIN:VALARM
ACTION:DISPLAY
TRIGGER;VALUE=DATE-TIME:20251005T170000Z
DESCRIPTION:Reminder for RASSEGNA LA PIETRA RACCONTA: I SEGRETI DEL GRANITO ROSA
END:VALARM
END:VEVENT
END:VCALENDAR
