


BEGIN:VCALENDAR
VERSION:2.0
PRODID:-//FESTA DELLA QUARTASCIA
 //NONSGML Events //EN
CALSCALE:GREGORIAN
X-WR-CALNAME:FESTA DELLA QUARTASCIA
BEGIN:VEVENT
CREATED:20250715T141610Z
UID:9978
DTEND;VALUE=DATE:20251026T170000Z
DTSTART;VALUE=DATE:20251026T093000Z
DTSTAMP:19700101T000001Z
LOCATION:
DESCRIPTION:Sunday the 26th of October 2025, from 11 a.m.
SUMMARY:FESTA DELLA QUARTASCIA
ORGANIZER:Baveno Turismo
URL;VALUE=URI:https://bavenoturismo.it/en/eventi/festa-della-quartascia/
TRANSP:OPAQUE
BEGIN:VALARM
ACTION:DISPLAY
TRIGGER;VALUE=DATE-TIME:20251026T180000Z
DESCRIPTION:Reminder for FESTA DELLA QUARTASCIA
END:VALARM
END:VEVENT
END:VCALENDAR
