


BEGIN:VCALENDAR
VERSION:2.0
PRODID:-//CASTAGNATA ALPINA
 //NONSGML Events //EN
CALSCALE:GREGORIAN
X-WR-CALNAME:CASTAGNATA ALPINA
BEGIN:VEVENT
CREATED:20250715T152551Z
UID:9993
DTEND;VALUE=DATE:20251019T160000Z
DTSTART;VALUE=DATE:20251019T113000Z
DTSTAMP:19700101T000001Z
LOCATION:
DESCRIPTION:<p class="qtranxs-available-languages-message qtranxs-available-langua
SUMMARY:CASTAGNATA ALPINA
ORGANIZER:Baveno Turismo
URL;VALUE=URI:https://bavenoturismo.it/en/eventi/castagnata-alpina/
TRANSP:OPAQUE
BEGIN:VALARM
ACTION:DISPLAY
TRIGGER;VALUE=DATE-TIME:20251019T170000Z
DESCRIPTION:Reminder for CASTAGNATA ALPINA
END:VALARM
END:VEVENT
END:VCALENDAR
