


BEGIN:VCALENDAR
VERSION:2.0
PRODID:-//CORSI UNI3 2025-2026: COMUNICARE
 //NONSGML Events //EN
CALSCALE:GREGORIAN
X-WR-CALNAME:CORSI UNI3 2025-2026: COMUNICARE
BEGIN:VEVENT
CREATED:20250828T084345Z
UID:10088
DTEND;VALUE=DATE:20251107T210000Z
DTSTART;VALUE=DATE:20251010T190000Z
DTSTAMP:19700101T000001Z
LOCATION:
DESCRIPTION:Venerdì dalle 20:00 alle 22:00
SUMMARY:CORSI UNI3 2025-2026: COMUNICARE
ORGANIZER:Baveno Turismo
URL;VALUE=URI:https://bavenoturismo.it/eventi/corsi-uni3-2025-2026-comunicare/
TRANSP:OPAQUE
BEGIN:VALARM
ACTION:DISPLAY
TRIGGER;VALUE=DATE-TIME:20251107T220000Z
DESCRIPTION:Reminder for CORSI UNI3 2025-2026: COMUNICARE
END:VALARM
END:VEVENT
END:VCALENDAR
