


BEGIN:VCALENDAR
VERSION:2.0
PRODID:-//CORSI UNI3 2025-2026: MATEMATICA DILETTEVOLE E CURIOSA
 //NONSGML Events //EN
CALSCALE:GREGORIAN
X-WR-CALNAME:CORSI UNI3 2025-2026: MATEMATICA DILETTEVOLE E CURIOSA
BEGIN:VEVENT
CREATED:20250828T095917Z
UID:10109
DTEND;VALUE=DATE:20260302T170000Z
DTSTART;VALUE=DATE:20260209T150000Z
DTSTAMP:19700101T000001Z
LOCATION:
DESCRIPTION:Lunedì dalle 16:00 alle 18:00
SUMMARY:CORSI UNI3 2025-2026: MATEMATICA DILETTEVOLE E CURIOSA
ORGANIZER:Baveno Turismo
URL;VALUE=URI:https://bavenoturismo.it/eventi/corsi-uni3-2025-2026-matematica-dilettevole-e-curiosa/
TRANSP:OPAQUE
BEGIN:VALARM
ACTION:DISPLAY
TRIGGER;VALUE=DATE-TIME:20260302T180000Z
DESCRIPTION:Reminder for CORSI UNI3 2025-2026: MATEMATICA DILETTEVOLE E CURIOSA
END:VALARM
END:VEVENT
END:VCALENDAR
