


BEGIN:VCALENDAR
VERSION:2.0
PRODID:-//CORSI UNI3 2025-2026: RICAMO A PUNTO CROCE
 //NONSGML Events //EN
CALSCALE:GREGORIAN
X-WR-CALNAME:CORSI UNI3 2025-2026: RICAMO A PUNTO CROCE
BEGIN:VEVENT
CREATED:20250828T100339Z
UID:10111
DTEND;VALUE=DATE:20260428T153000Z
DTSTART;VALUE=DATE:20260217T133000Z
DTSTAMP:19700101T000001Z
LOCATION:
DESCRIPTION:Martedì dalle 14:30 alle 16:30
SUMMARY:CORSI UNI3 2025-2026: RICAMO A PUNTO CROCE
ORGANIZER:Baveno Turismo
URL;VALUE=URI:https://bavenoturismo.it/eventi/corsi-uni3-2025-2026-ricamo-a-punto-croce/
TRANSP:OPAQUE
BEGIN:VALARM
ACTION:DISPLAY
TRIGGER;VALUE=DATE-TIME:20260428T163000Z
DESCRIPTION:Reminder for CORSI UNI3 2025-2026: RICAMO A PUNTO CROCE
END:VALARM
END:VEVENT
END:VCALENDAR
