


BEGIN:VCALENDAR
VERSION:2.0
PRODID:-//FESTA PATRONALE DI SAN CARLO
 //NONSGML Events //EN
CALSCALE:GREGORIAN
X-WR-CALNAME:FESTA PATRONALE DI SAN CARLO
BEGIN:VEVENT
CREATED:20251016T103124Z
UID:10235
DTEND;VALUE=DATE:20251102T120000Z
DTSTART;VALUE=DATE:20251102T100000Z
DTSTAMP:19700101T000001Z
LOCATION:
DESCRIPTION:Domenica 2 novembre 2025, dalle ore 11:00
SUMMARY:FESTA PATRONALE DI SAN CARLO
ORGANIZER:Baveno Turismo
URL;VALUE=URI:https://bavenoturismo.it/eventi/festa-patronale-di-san-carlo/
TRANSP:OPAQUE
BEGIN:VALARM
ACTION:DISPLAY
TRIGGER;VALUE=DATE-TIME:20251102T130000Z
DESCRIPTION:Reminder for FESTA PATRONALE DI SAN CARLO
END:VALARM
END:VEVENT
END:VCALENDAR
