


BEGIN:VCALENDAR
VERSION:2.0
PRODID:-//TORNEO DELLO ZAMPONE
 //NONSGML Events //EN
CALSCALE:GREGORIAN
X-WR-CALNAME:TORNEO DELLO ZAMPONE
BEGIN:VEVENT
CREATED:20251016T152412Z
UID:10240
DTEND;VALUE=DATE:20251130T160000Z
DTSTART;VALUE=DATE:20251130T140000Z
DTSTAMP:19700101T000001Z
LOCATION:
DESCRIPTION:Domenica 30 Novembre 2025, ore 15:00
SUMMARY:TORNEO DELLO ZAMPONE
ORGANIZER:Baveno Turismo
URL;VALUE=URI:https://bavenoturismo.it/eventi/torneo-dello-zampone/
TRANSP:OPAQUE
BEGIN:VALARM
ACTION:DISPLAY
TRIGGER;VALUE=DATE-TIME:20251130T170000Z
DESCRIPTION:Reminder for TORNEO DELLO ZAMPONE
END:VALARM
END:VEVENT
END:VCALENDAR
