


BEGIN:VCALENDAR
VERSION:2.0
PRODID:-//NOTE DI NATALE
 //NONSGML Events //EN
CALSCALE:GREGORIAN
X-WR-CALNAME:NOTE DI NATALE
BEGIN:VEVENT
CREATED:20251020T095245Z
UID:10260
DTEND;VALUE=DATE:20251207T213000Z
DTSTART;VALUE=DATE:20251207T200000Z
DTSTAMP:19700101T000001Z
LOCATION:
DESCRIPTION:Domenica 7 dicembre 2025, ore 21:00
SUMMARY:NOTE DI NATALE
ORGANIZER:Baveno Turismo
URL;VALUE=URI:https://bavenoturismo.it/eventi/note-di-natale/
TRANSP:OPAQUE
BEGIN:VALARM
ACTION:DISPLAY
TRIGGER;VALUE=DATE-TIME:20251207T223000Z
DESCRIPTION:Reminder for NOTE DI NATALE
END:VALARM
END:VEVENT
END:VCALENDAR
